BEGIN:VCALENDAR
VERSION:2.0
PRODID:-//Agenda de Cultura Fuerteventura - ECPv6.0.2//NONSGML v1.0//EN
CALSCALE:GREGORIAN
METHOD:PUBLISH
X-WR-CALNAME:Agenda de Cultura Fuerteventura
X-ORIGINAL-URL:https://culturafuerteventura.es
X-WR-CALDESC:Events for Agenda de Cultura Fuerteventura
REFRESH-INTERVAL;VALUE=DURATION:PT1H
X-Robots-Tag:noindex
X-PUBLISHED-TTL:PT1H
BEGIN:VTIMEZONE
TZID:Europe/Paris
BEGIN:DAYLIGHT
TZOFFSETFROM:+0100
TZOFFSETTO:+0200
TZNAME:CEST
DTSTART:20250330T010000
END:DAYLIGHT
BEGIN:STANDARD
TZOFFSETFROM:+0200
TZOFFSETTO:+0100
TZNAME:CET
DTSTART:20251026T010000
END:STANDARD
END:VTIMEZONE
BEGIN:VEVENT
DTSTART;VALUE=DATE:20250220
DTEND;VALUE=DATE:20251121
DTSTAMP:20260423T002750
CREATED:20250221T092034Z
LAST-MODIFIED:20251023T111439Z
UID:14942-1740009600-1763683199@culturafuerteventura.es
SUMMARY:Desafíos globales\, actuación local - Fundación Manuel Velázquez Cabrera
DESCRIPTION:  Ian Garside\, Javier Arozena y Aarón Comino presentan tres piezas individuales y una creación colectiva en residencia para la imponente ventana del Palacio de Formación y Congresos. En la tercera edición de este ciclo confluyen tres excepcionales creadores y bailarines internacionales. Ian Garside desde Gran Canaria\, Javier Arozena desde Tenerife\, Aarón Comino desde Fuerteventura se encuentran en el escenario del Palacio de Congresos. Danza\, movimiento\, concepto y creación a tres. 						\n				\n				\n				\n					\n			\n						\n						\n							\n									Comprar Entradas
URL:https://culturafuerteventura.es/evento/desafios-globales-actuacion-local-fundacion-manuel-velazquez-cabrera/
LOCATION:Casa Manuel Velazquez Cabrera\, Calle Justo Évora 10\, Tiscamanita\, Las Palmas\, 35638\, España
CATEGORIES:Concentración,Conferecias,Formación,Taller
ATTACH;FMTTYPE=image/jpeg:https://culturafuerteventura.es/wp-content/uploads/2025/02/fundacion-manuel-velazquez-cabrera.jpg
END:VEVENT
END:VCALENDAR